BEGIN:VCALENDAR
VERSION:2.0
PRODID:-//Plone.org//NONSGML plone.app.event//EN
X-WR-TIMEZONE:Europe/Berlin
BEGIN:VEVENT
SUMMARY:Discussion: Can forests have rights?
DTSTART;TZID=Europe/Berlin:20260430T160000
DTSTAMP:20260424T072729Z
UID:a9f087f8d66c4366ad6a4bb071a11663@www.versoehnung.uni-bonn.de
CATEGORIES:Noticias
CREATED:20260423T133703Z
DESCRIPTION:The GHL seminar series continues on Thursday\, April 30th with
  a Panel Discussion bringing together Matthias Kramm\, Jenny García Ruale
 s\, Alejandro Mora Motta\, Clément Roux and Rosario Figari Layús for a c
 onversation on: Can forests have rights? Forests\, indigenous meanings\, a
 nd the sociocultural implications of the “rights of nature”.\n\nThe id
 ea of the ‘rights of nature’ brings together notions of how humans and
  nature interrelate and of how to operationalise these relations within in
 stitutions and state structures. This Panel Discussion engages provocative
  sociopolitical and cultural elements\, including what happens when forest
 s are granted rights\, ranging from posthuman Constitutionalism\, legal pe
 rsonhood\, indigenous rights and law\, activism and engaged research\, and
  environmental peace. The discussion will focus on cases in Latin America 
 and their potential application in Germany.
LAST-MODIFIED:20260423T133930Z
URL:https://www.versoehnung.uni-bonn.de/es/podiumsdiskussion-can-forests-h
 ave-rights
END:VEVENT
BEGIN:VTIMEZONE
TZID:Europe/Berlin
X-LIC-LOCATION:Europe/Berlin
BEGIN:DAYLIGHT
DTSTART:20260329T030000
TZNAME:CEST
TZOFFSETFROM:+0100
TZOFFSETTO:+0200
END:DAYLIGHT
END:VTIMEZONE
END:VCALENDAR
